BEGIN:VCALENDAR
VERSION:2.0
PRODID:-//ChamberMaster//Event Calendar 2.0//EN
METHOD:PUBLISH
X-PUBLISHED-TTL:P3D
REFRESH-INTERVAL:P3D
CALSCALE:GREGORIAN
BEGIN:VEVENT
DTSTART:20250831T220000Z
DTEND:20250901T010000Z
X-MICROSOFT-CDO-ALLDAYEVENT:FALSE
SUMMARY:KBBC Jimmy Buffett Tribute Party
DESCRIPTION:Key Biscayne Beach Club End of Summer Member BBQ and Jimmy Buffett Tribute Party on Labor Day Weekend! Cheeseburgers\, margaritas\, and live music by Will Thomas (of Tall Boys Fame)!
X-ALT-DESC;FMTTYPE=text/html:<br />\n<br />\n<br />\nKey Biscayne Beach Club End of Summer Member BBQ and Jimmy Buffett Tribute Party on Labor Day Weekend! Cheeseburgers\, margaritas\, and live music by Will Thomas (of Tall Boys Fame)!
LOCATION:Key Biscayne Beach Club
UID:e.330.23138
SEQUENCE:3
DTSTAMP:20260425T014357Z
URL:https://business.keybiscaynechamber.org/events/details/kbbc-jimmy-buffett-tribute-party-23138
END:VEVENT

END:VCALENDAR
