BEGIN:VCALENDAR
VERSION:2.0
PRODID:-//ChamberMaster//Event Calendar 2.0//EN
METHOD:PUBLISH
X-PUBLISHED-TTL:P3D
REFRESH-INTERVAL:P3D
CALSCALE:GREGORIAN
BEGIN:VEVENT
DTSTART:20110310T223000Z
DTEND:20110311T045500Z
X-MICROSOFT-CDO-ALLDAYEVENT:FALSE
SUMMARY:KB Women's Aux. Cancer Annual Gala
DESCRIPTION:Join The key Biscayne Women's Auxiliary for their Silver Anniversary Gala \n\n	\n\n	\n\n	6pm cocktails - cash bar\n\n	7pm dinner\n\n	8pm entertainment by Salsa Lovers Dance Performance\n\n	\n\n	\n		Celebrating 25 Years of Service\n\n		\n\n		As part of the evening\, they always have a raffle which includes a dozen or so interesting\n\n		and attractive prizes. The tickets are $25 each or a book of five for $100.\n\n		For information\, call Rose Guerra at (305) 779-2874.
X-ALT-DESC;FMTTYPE=text/html:<div>\n	<span style="font-size: 12px"><span style="font-family: arial">Join&nbsp\;The key Biscayne Women&#39\;s Auxiliary for their Silver Anniversary Gala&nbsp\;</span></span></div>\n<div>\n	<br />\n	<br />\n	<span style="font-size: 12px"><span style="font-family: arial">6pm cocktails - cash bar<br />\n	7pm&nbsp\;dinner<br />\n	8pm entertainment by Salsa Lovers Dance Performance</span></span><br />\n	<br />\n	<p class="MsoNormal" style="margin: 0in 0in 0pt\; mso-margin-top-alt: auto\; mso-margin-bottom-alt: auto">\n		<span style="font-size: 12px"><span style="font-family: arial"><i><font color="#000000">Celebrating 25 Years of Service</font></i><br />\n		<br />\n		<font color="#000000">As part of the evening\,&nbsp\;they always have a <b>raffle</b> which includes a dozen or so interesting<br />\n		and attractive prizes. The tickets are $25 each or a book of five for $100.<br />\n		<b>For information\, call Rose Guerra at (305) 779-2874.</b></font></span></span></p>\n	<p>\n		<br />\n		<br />\n		&nbsp\;</p>\n</div>\n
LOCATION:The Rusty Pelican\, 3201 Rickenbacker Causeway
UID:e.330.1633
SEQUENCE:3
DTSTAMP:20260421T202357Z
URL:https://business.keybiscaynechamber.org/events/details/kb-women-s-aux-cancer-annual-gala-03-10-2011-1633
END:VEVENT

END:VCALENDAR
