BEGIN:VCALENDAR
VERSION:2.0
PRODID:-//ChamberMaster//Event Calendar 2.0//EN
METHOD:PUBLISH
X-PUBLISHED-TTL:P3D
REFRESH-INTERVAL:P3D
CALSCALE:GREGORIAN
BEGIN:VEVENT
DTSTART:20131019T180000Z
DTEND:20131019T220000Z
X-MICROSOFT-CDO-ALLDAYEVENT:FALSE
SUMMARY:KB Halloween Scavenger Hunt
DESCRIPTION:Get your team ready and hop on those golf carts.\n\nLots of fun and prizes.\n\nBest costumed golf cart wins a prize\n\n\n\nAll proceeds benefit Act4Me Foundation
X-ALT-DESC;FMTTYPE=text/html:<span style="font-size: 14px"><span style="font-family: comic sans ms"><span style="color: #ff8c00">Get your team ready and hop on those golf carts.</span></span><br />\nLots of fun and prizes.<br />\n<span style="font-family: comic sans ms"><span style="color: #ff8c00">Best costumed golf cart wins a prize</span></span></span><br />\n<br />\nAll proceeds benefit Act4Me Foundation
LOCATION:KB Presbyterian Church 160 Harbor Dr. Key Biscayne\, FL
UID:e.330.3981
SEQUENCE:3
DTSTAMP:20260419T235738Z
URL:https://business.keybiscaynechamber.org/events/details/kb-halloween-scavenger-hunt-10-19-2013-3981
END:VEVENT

END:VCALENDAR
