BEGIN:VCALENDAR
VERSION:2.0
PRODID:-//ChamberMaster//Event Calendar 2.0//EN
METHOD:PUBLISH
X-PUBLISHED-TTL:P3D
REFRESH-INTERVAL:P3D
CALSCALE:GREGORIAN
BEGIN:VEVENT
DTSTART:20260128T220000Z
DTEND:20260129T000000Z
X-MICROSOFT-CDO-ALLDAYEVENT:FALSE
SUMMARY:KB Chamber 2026 Board Installation Reception
DESCRIPTION:Join the Key Biscayne Chamber of Commerce for an elegant Board Installation Reception sponsored by Baptist Health at The Ritz-Carlton Key Biscayne.\n\n\n\nWe are proud to present our 2026 incoming slate of Directors:\n\n\n\nChair: Vivian Galego-Mendez\, BHHS EWM Realty\n\nVice Chair: Mary Tague\, Key Biscayne Film Festival\n\nCo-Vice Chair: Alejandro Servalli\, Key Biscayne Stories Podcast\n\nTreasurer: Robert Brookes\, Key to Banking\n\nSecretary: Joe Coote\, The Ritz-Carlton Key Biscayne\, Miami\n\n \n\nChristina Bracken\, Friends of Cape Florida / Go Vote Miami\n\nXiomara Cortes\, London Real Estate\n\nLourdes Luaces\, Key Space\n\nJusto Rey\, Islander Media Group\n\n \n\nAlternate: Patricia Mattar\, Coldwell Banker Realty\n\n \n\nCelebrate the incoming board\, connect with community leaders\, and kick off a new year of collaboration and island impact.  An evening of networking and camaraderie in a setting as special as our Village.\n\n\nChamber Members $25 | Non-members $35\n\nIncludes wine & Prosecco\, hors d'oeuvres\n\nRegistration required.
X-ALT-DESC;FMTTYPE=text/html:<p><br />\n<br />\n<span style="font-family:arial\;"><span style="font-size:16px\;">Join the Key Biscayne Chamber of Commerce for an elegant Board Installation Reception sponsored by Baptist Health at The&nbsp\;Ritz-Carlton Key Biscayne.<br />\n<br />\nWe are proud to present our 2026 incoming slate of Directors:</span></span></p>\n\n<p style="margin: 0px\; padding: 0px\; color: rgb(64\, 63\, 66)\; font-family: Arial\, Verdana\, Helvetica\, sans-serif\; font-size: 12px\; white-space-collapse: preserve\;"><br />\n<span style="font-size: 16px\; color: rgb(0\, 0\, 0)\;">Chair:&nbsp\;</span><span style="font-size: 16px\; color: rgb(0\, 0\, 0)\; font-weight: bold\;">Vivian Galego-Mendez</span><span style="font-size: 16px\; color: rgb(0\, 0\, 0)\;">\, BHHS EWM Realty</span></p>\n\n<p style="margin: 0px\; padding: 0px\; color: rgb(64\, 63\, 66)\; font-family: Arial\, Verdana\, Helvetica\, sans-serif\; font-size: 12px\; white-space-collapse: preserve\;"><span style="font-size: 16px\; color: rgb(0\, 0\, 0)\;">Vice Chair: <strong>Mary Tague</strong>\, Key Biscayne Film Festival</span></p>\n\n<p style="margin: 0px\; padding: 0px\; color: rgb(64\, 63\, 66)\; font-family: Arial\, Verdana\, Helvetica\, sans-serif\; font-size: 12px\; white-space-collapse: preserve\;"><span style="font-size: 16px\; color: rgb(0\, 0\, 0)\;">Co-Vice Chair: </span><span style="font-size: 16px\; color: rgb(0\, 0\, 0)\; font-weight: bold\;">Alejandro Servalli</span><span style="font-size: 16px\; color: rgb(0\, 0\, 0)\;">\, Key Biscayne Stories Podcast</span></p>\n\n<p style="margin: 0px\; padding: 0px\; color: rgb(64\, 63\, 66)\; font-family: Arial\, Verdana\, Helvetica\, sans-serif\; font-size: 12px\; white-space-collapse: preserve\;"><span style="font-size: 16px\; color: rgb(0\, 0\, 0)\;">Treasurer:&nbsp\;</span><span style="font-size: 16px\; color: rgb(0\, 0\, 0)\; font-weight: bold\;">Robert Brookes</span><span style="font-size: 16px\; color: rgb(0\, 0\, 0)\;">\, Key to Banking</span></p>\n\n<p style="margin: 0px\; padding: 0px\; color: rgb(64\, 63\, 66)\; font-family: Arial\, Verdana\, Helvetica\, sans-serif\; font-size: 12px\; white-space-collapse: preserve\;"><span style="font-size: 16px\; color: rgb(0\, 0\, 0)\;">Secretary:&nbsp\;</span><span style="font-size: 16px\; color: rgb(0\, 0\, 0)\; font-weight: bold\;">Joe Coote</span><span style="font-size: 16px\; color: rgb(0\, 0\, 0)\;">\, The Ritz-Carlton Key Biscayne\, Miami</span></p>\n\n<div>&nbsp\;</div>\n\n<p style="font-family: -webkit-standard\; text-size-adjust: auto\; margin: 0in 0in 0.0001pt\; background-color: white\; white-space: pre-wrap\;"><span style="font-family:arial\;"><span style="font-size: 16px\;"><b>Christina Bracken\, </b>Friends of Cape Florida / Go Vote Miami</span></span></p>\n\n<p style="font-family: -webkit-standard\; text-size-adjust: auto\; margin: 0in 0in 0.0001pt\; background-color: white\; white-space: pre-wrap\;"><span style="font-family:arial\;"><span style="font-size: 16px\;"><b>Xiomara Cortes\,</b> London Real Estate</span></span></p>\n\n<p style="font-family: -webkit-standard\; text-size-adjust: auto\; margin: 0in 0in 0.0001pt\; white-space: pre-wrap\;"><span style="font-family:arial\;"><span style="font-size: 16px\;"><b>Lourdes Luaces</b>\, Key Space</span></span></p>\n\n<p style="font-family: -webkit-standard\; text-size-adjust: auto\; margin: 0in 0in 0.0001pt\; white-space: pre-wrap\;"><span style="font-family:arial\;"><span style="font-size: 16px\;"><b>Justo Rey</b>\, Islander Media Group</span></span></p>\n\n<p style="font-family: -webkit-standard\; text-size-adjust: auto\; margin: 0in 0in 0.0001pt\; white-space: pre-wrap\;"><span style="font-family:arial\;"><span style="font-size: 16px\;">&nbsp\;</span></span></p>\n\n<p style="font-family: -webkit-standard\; text-size-adjust: auto\; margin: 0in 0in 0.0001pt\; white-space: pre-wrap\;"><span style="font-family:arial\;"><span style="font-size: 16px\;">Alternate:<b>&nbsp\;Patricia Mattar</b>\, Coldwell Banker Realty</span></span></p>\n\n<p style="font-family: -webkit-standard\; text-size-adjust: auto\; margin: 0in 0in 0.0001pt\; white-space: pre-wrap\;">&nbsp\;</p>\n\n<p style="font-family: -webkit-standard\; text-size-adjust: auto\; margin: 0in 0in 0.0001pt\; white-space: pre-wrap\;"><span style="font-family:arial\;"><span style="color: rgb(51\, 51\, 51)\; font-size: 16px\; background-color: rgb(255\, 255\, 255)\;">Celebrate the incoming board\, connect with community leaders\, and kick off a new year of collaboration and island impact.&nbsp\; An evening of networking and camaraderie in a setting as special as our Village.</span></span></p>\n<br />\n<span style="font-family:arial\;"><span style="font-size:16px\;">Chamber Members $25 | Non-members $35<br />\nIncludes wine &amp\; Prosecco\, hors d&#39\;oeuvres<br />\nRegistration required.</span></span><br />\n&nbsp\;
LOCATION:The Ritz-Carlton Key Biscayne
UID:e.330.23319
SEQUENCE:3
DTSTAMP:20260424T193606Z
URL:https://business.keybiscaynechamber.org/events/details/kb-chamber-board-installation-reception-23319
END:VEVENT

END:VCALENDAR
