BEGIN:VCALENDAR
VERSION:2.0
PRODID:-//ChamberMaster//Event Calendar 2.0//EN
METHOD:PUBLISH
X-PUBLISHED-TTL:P3D
REFRESH-INTERVAL:P3D
CALSCALE:GREGORIAN
BEGIN:VEVENT
DTSTART:20120708T020000Z
DTEND:20120708T060000Z
X-MICROSOFT-CDO-ALLDAYEVENT:FALSE
SUMMARY:karaoke with Karaoke Plus
DESCRIPTION:
X-ALT-DESC;FMTTYPE=text/html:
LOCATION:The Ibis Lounge 200 Crandon Blvd
UID:e.330.3740
SEQUENCE:3
DTSTAMP:20260420T210834Z
URL:https://business.keybiscaynechamber.org/events/details/karaoke-with-karaoke-plus-07-07-2012-3740
END:VEVENT

END:VCALENDAR
