BEGIN:VCALENDAR
VERSION:2.0
PRODID:-//ChamberMaster//Event Calendar 2.0//EN
METHOD:PUBLISH
X-PUBLISHED-TTL:P3D
REFRESH-INTERVAL:P3D
CALSCALE:GREGORIAN
BEGIN:VEVENT
DTSTART:20120826T020000Z
DTEND:20120826T060000Z
X-MICROSOFT-CDO-ALLDAYEVENT:FALSE
SUMMARY:karaoke saturdays with KARAOKE PLUS
DESCRIPTION:
X-ALT-DESC;FMTTYPE=text/html:
LOCATION:200 Crandon Blvd
UID:e.330.3750
SEQUENCE:3
DTSTAMP:20260420T210959Z
URL:https://business.keybiscaynechamber.org/events/details/karaoke-saturdays-with-karaoke-plus-08-25-2012-3750
END:VEVENT

END:VCALENDAR
