BEGIN:VCALENDAR
VERSION:2.0
PRODID:-//ChamberMaster//Event Calendar 2.0//EN
METHOD:PUBLISH
X-PUBLISHED-TTL:P3D
REFRESH-INTERVAL:P3D
CALSCALE:GREGORIAN
BEGIN:VEVENT
DTSTART:20120701T020000Z
DTEND:20120701T060000Z
X-MICROSOFT-CDO-ALLDAYEVENT:FALSE
SUMMARY:karaoke night with Karaoke Plus
DESCRIPTION:
X-ALT-DESC;FMTTYPE=text/html:
LOCATION:The Ibis Lounge 200 Crandon Blvd
UID:e.330.3737
SEQUENCE:3
DTSTAMP:20260420T210953Z
URL:https://business.keybiscaynechamber.org/events/details/karaoke-night-with-karaoke-plus-06-30-2012-3737
END:VEVENT

END:VCALENDAR
