BEGIN:VCALENDAR
VERSION:2.0
PRODID:-//ChamberMaster//Event Calendar 2.0//EN
METHOD:PUBLISH
X-PUBLISHED-TTL:P3D
REFRESH-INTERVAL:P3D
CALSCALE:GREGORIAN
BEGIN:VEVENT
DTSTART:20111218T030000Z
DTEND:20111218T070000Z
X-MICROSOFT-CDO-ALLDAYEVENT:FALSE
SUMMARY:Karaoke Night at The Ibis Lounge with Karaoke Plus
DESCRIPTION:
X-ALT-DESC;FMTTYPE=text/html:
LOCATION:The Ibis Lounge 200 Crandon Blvd #101 Key Biscayne\, Fl 33149
UID:e.330.3542
SEQUENCE:3
DTSTAMP:20260421T074610Z
URL:https://business.keybiscaynechamber.org/events/details/karaoke-night-at-the-ibis-lounge-with-karaoke-plus-12-17-2011-3542
END:VEVENT

END:VCALENDAR
