BEGIN:VCALENDAR
VERSION:2.0
PRODID:-//ChamberMaster//Event Calendar 2.0//EN
METHOD:PUBLISH
X-PUBLISHED-TTL:P3D
REFRESH-INTERVAL:P3D
CALSCALE:GREGORIAN
BEGIN:VEVENT
DTSTART:20110306T030000Z
DTEND:20110306T070000Z
X-MICROSOFT-CDO-ALLDAYEVENT:FALSE
SUMMARY:Karaoke Night at The Ibis Lounge
DESCRIPTION:sing your favorite hits with Karoke Plus
X-ALT-DESC;FMTTYPE=text/html:sing your favorite hits with Karoke Plus
LOCATION:The Ibis Lounge 200 Crandon Blvd #101 Key Biscayne\, Fl 33149
UID:e.330.3312
SEQUENCE:3
DTSTAMP:20260421T202206Z
URL:https://business.keybiscaynechamber.org/events/details/karaoke-night-at-the-ibis-lounge-03-05-2011-3312
END:VEVENT

END:VCALENDAR
