BEGIN:VCALENDAR
VERSION:2.0
PRODID:-//ChamberMaster//Event Calendar 2.0//EN
METHOD:PUBLISH
X-PUBLISHED-TTL:P3D
REFRESH-INTERVAL:P3D
CALSCALE:GREGORIAN
BEGIN:VEVENT
DTSTART:20110508T020000Z
DTEND:20110508T060000Z
X-MICROSOFT-CDO-ALLDAYEVENT:FALSE
SUMMARY:Karaoke at The Ibis Lounge
DESCRIPTION:sing all your favorite hits with Karaoke Plus
X-ALT-DESC;FMTTYPE=text/html:sing all your favorite hits with Karaoke Plus
LOCATION:The Ibis Lounge 200 Crandon Blvd. #103 Key BIscayne\, Fl 33149
UID:e.330.3368
SEQUENCE:3
DTSTAMP:20260421T184035Z
URL:https://business.keybiscaynechamber.org/events/details/karaoke-at-the-ibis-lounge-05-07-2011-3368
END:VEVENT

END:VCALENDAR
