BEGIN:VCALENDAR
VERSION:2.0
PRODID:-//ChamberMaster//Event Calendar 2.0//EN
METHOD:PUBLISH
X-PUBLISHED-TTL:P3D
REFRESH-INTERVAL:P3D
CALSCALE:GREGORIAN
BEGIN:VEVENT
DTSTART:20110410T020000Z
DTEND:20110410T180000Z
X-MICROSOFT-CDO-ALLDAYEVENT:FALSE
SUMMARY:Karaoke at The Ibis Lounge
DESCRIPTION:sing your favorite hits with Karaoke Plus
X-ALT-DESC;FMTTYPE=text/html:sing your favorite hits with Karaoke Plus
LOCATION:The Ibis Lounge 200 Crandon Blvd #101 Key Biscayne\, Fl 33149
UID:e.330.3338
SEQUENCE:3
DTSTAMP:20260421T185554Z
URL:https://business.keybiscaynechamber.org/events/details/karaoke-at-the-ibis-lounge-04-09-2011-3338
END:VEVENT

END:VCALENDAR
