BEGIN:VCALENDAR
VERSION:2.0
PRODID:-//ChamberMaster//Event Calendar 2.0//EN
METHOD:PUBLISH
X-PUBLISHED-TTL:P3D
REFRESH-INTERVAL:P3D
CALSCALE:GREGORIAN
BEGIN:VEVENT
DTSTART:20110702T010000Z
DTEND:20110705T035500Z
X-MICROSOFT-CDO-ALLDAYEVENT:FALSE
SUMMARY:July 4th weekend at The Ibis Lounge
DESCRIPTION:Come celebrate the 4th of July with us at The Ibis Lounge\n\n\n\nFriday - dance the night away with Eloy Orta\n\nSaturday - sing all your favorite hits with Karaoke Plus\n\nSunday - Key Biscayne legend Louie Archambeau is back! (open 5pm-12am)\n\nMonday - open 5pm-12am
X-ALT-DESC;FMTTYPE=text/html:Come celebrate the 4th of July with us at The Ibis Lounge<br />\n<br />\nFriday - dance the night away with Eloy Orta<br />\nSaturday - sing all your favorite hits with Karaoke Plus<br />\nSunday - Key Biscayne legend Louie Archambeau is back! (open 5pm-12am)<br />\nMonday - open 5pm-12am
LOCATION:The Ibis Lounge 200 Crandon Blvd #101 Key Biscayne\, Fl 33149
UID:e.330.3433
SEQUENCE:3
DTSTAMP:20260421T150013Z
URL:https://business.keybiscaynechamber.org/events/details/july-4th-weekend-at-the-ibis-lounge-07-01-2011-3433
END:VEVENT

END:VCALENDAR
