BEGIN:VCALENDAR
VERSION:2.0
PRODID:-//ChamberMaster//Event Calendar 2.0//EN
METHOD:PUBLISH
X-PUBLISHED-TTL:P3D
REFRESH-INTERVAL:P3D
CALSCALE:GREGORIAN
BEGIN:VEVENT
DTSTART:20130308T220000Z
DTEND:20130309T010000Z
X-MICROSOFT-CDO-ALLDAYEVENT:FALSE
SUMMARY:ITALIAN WINES & VODKA TASTING
DESCRIPTION:TOMASSI VALPOLICELLA\n\nTOMASSI RIPASO\n\n\n\nKARLSSONS GOLD VODKA
X-ALT-DESC;FMTTYPE=text/html:TOMASSI VALPOLICELLA<br />\nTOMASSI RIPASO<br />\n<br />\nKARLSSONS GOLD VODKA
LOCATION:STEFANO?S WINE & LIQUOR AT THE GALLERIA MALL
UID:e.330.3867
SEQUENCE:3
DTSTAMP:20260420T091413Z
URL:https://business.keybiscaynechamber.org/events/details/italian-wines-vodka-tasting-03-08-2013-3867
END:VEVENT

END:VCALENDAR
