BEGIN:VCALENDAR
VERSION:2.0
PRODID:-//ChamberMaster//Event Calendar 2.0//EN
METHOD:PUBLISH
X-PUBLISHED-TTL:P3D
REFRESH-INTERVAL:P3D
CALSCALE:GREGORIAN
BEGIN:VEVENT
DTSTART:20130119T220000Z
DTEND:20130120T010000Z
X-MICROSOFT-CDO-ALLDAYEVENT:FALSE
SUMMARY:ITALIAN WINES TASTING WEEKEND!
DESCRIPTION:BAROLOS\n\nBRUNNELOS\n\nPINOT GRIGGIOS
X-ALT-DESC;FMTTYPE=text/html:<span style="font-size: 16px"><strong>BAROLOS<br />\nBRUNNELOS<br />\nPINOT GRIGGIOS</strong></span>
LOCATION:STEFANO?S WINE & LIQUOR AT THE GALLERIA MALL
UID:e.330.3838
SEQUENCE:3
DTSTAMP:20260420T115125Z
URL:https://business.keybiscaynechamber.org/events/details/italian-wines-tasting-weekend-01-19-2013-3838
END:VEVENT

END:VCALENDAR
