BEGIN:VCALENDAR
VERSION:2.0
PRODID:-//ChamberMaster//Event Calendar 2.0//EN
METHOD:PUBLISH
X-PUBLISHED-TTL:P3D
REFRESH-INTERVAL:P3D
CALSCALE:GREGORIAN
BEGIN:VEVENT
DTSTART:20130118T220000Z
DTEND:20130119T010000Z
X-MICROSOFT-CDO-ALLDAYEVENT:FALSE
SUMMARY:ITALIAN WINES TASTING WEEKEND!
DESCRIPTION:MASI\, AMARONE
X-ALT-DESC;FMTTYPE=text/html:<p>\n	<strong><span style="font-size: 16px">MASI\, AMARONE</span></strong></p>\n
LOCATION:STEFANO?S WINE & LIQUOR AT THE GALLERIA MALL
UID:e.330.3837
SEQUENCE:3
DTSTAMP:20260420T115126Z
URL:https://business.keybiscaynechamber.org/events/details/italian-wines-tasting-weekend-01-18-2013-3837
END:VEVENT

END:VCALENDAR
