BEGIN:VCALENDAR
VERSION:2.0
PRODID:-//ChamberMaster//Event Calendar 2.0//EN
METHOD:PUBLISH
X-PUBLISHED-TTL:P3D
REFRESH-INTERVAL:P3D
CALSCALE:GREGORIAN
BEGIN:VEVENT
DTSTART:20130112T220000Z
DTEND:20130113T010000Z
X-MICROSOFT-CDO-ALLDAYEVENT:FALSE
SUMMARY:ITALIAN WINES & SANGRIA TASTING
DESCRIPTION:Colli Fruili Pinot Griggio\n\n\n\nOle Sangria!
X-ALT-DESC;FMTTYPE=text/html:<span style="font-size: 16px">Colli Fruili Pinot Griggio<br />\n<br />\nOle Sangria!</span><br />\n<br />\n
LOCATION:STEFANO?S WINE & LIQUOR AT THE GALLERIA MALL
UID:e.330.3836
SEQUENCE:3
DTSTAMP:20260420T115232Z
URL:https://business.keybiscaynechamber.org/events/details/italian-wines-sangria-tasting-01-12-2013-3836
END:VEVENT

END:VCALENDAR
