BEGIN:VCALENDAR
VERSION:2.0
PRODID:-//ChamberMaster//Event Calendar 2.0//EN
METHOD:PUBLISH
X-PUBLISHED-TTL:P3D
REFRESH-INTERVAL:P3D
CALSCALE:GREGORIAN
BEGIN:VEVENT
DTSTART:20121207T220000Z
DTEND:20121208T010000Z
X-MICROSOFT-CDO-ALLDAYEVENT:FALSE
SUMMARY:ITALIAN WINE TASTING
DESCRIPTION:Masi Family Portfolio Tasting\n\nAmarone & Pinot Griggio
X-ALT-DESC;FMTTYPE=text/html:<span style="font-size: 16px"><span style="font-family: arial">Masi Family Portfolio Tasting<br />\nAmarone &amp\; Pinot Griggio</span></span><br />\n
LOCATION:STEFANO'S WINE & LIQUOR AT THE GALLERIA MALL
UID:e.330.3824
SEQUENCE:3
DTSTAMP:20260420T132616Z
URL:https://business.keybiscaynechamber.org/events/details/italian-wine-tasting-12-07-2012-3824
END:VEVENT

END:VCALENDAR
