BEGIN:VCALENDAR
VERSION:2.0
PRODID:-//ChamberMaster//Event Calendar 2.0//EN
METHOD:PUBLISH
X-PUBLISHED-TTL:P3D
REFRESH-INTERVAL:P3D
CALSCALE:GREGORIAN
BEGIN:VEVENT
DTSTART:20130201T220000Z
DTEND:20130202T010000Z
X-MICROSOFT-CDO-ALLDAYEVENT:FALSE
SUMMARY:ITALIAN WINE TASTING
DESCRIPTION:Tommasi\, Ripasso\n\nTommasi\, Valpolicella\n\nTommasi\, Prosecco\n\n\n\nSPIRIT OF THE WEEK: RON ZACAPA $33.99 (.750)\n\n                                       RON ZACAPA $44.99 (LTR)
X-ALT-DESC;FMTTYPE=text/html:<span style="font-size: 14px">Tommasi\, Ripasso<br />\nTommasi\, Valpolicella<br />\nTommasi\, Prosecco<br />\n<br />\nSPIRIT OF THE WEEK: RON ZACAPA $33.99 (.750)<br />\n&nbsp\;&nbsp\;&nbsp\;&nbsp\;&nbsp\;&nbsp\;&nbsp\;&nbsp\;&nbsp\;&nbsp\;&nbsp\;&nbsp\;&nbsp\;&nbsp\;&nbsp\;&nbsp\;&nbsp\;&nbsp\;&nbsp\;&nbsp\;&nbsp\;&nbsp\;&nbsp\;&nbsp\;&nbsp\;&nbsp\;&nbsp\;&nbsp\;&nbsp\;&nbsp\;&nbsp\;&nbsp\;&nbsp\;&nbsp\;&nbsp\;&nbsp\;&nbsp\;&nbsp\;&nbsp\;RON ZACAPA $44.99 (LTR)</span>
LOCATION:STEFANO?S WINE & LIQUOR AT THE GALLERIA MALL
UID:e.330.3841
SEQUENCE:3
DTSTAMP:20260420T114017Z
URL:https://business.keybiscaynechamber.org/events/details/italian-wine-tasting-02-01-2013-3841
END:VEVENT

END:VCALENDAR
