BEGIN:VCALENDAR
VERSION:2.0
PRODID:-//ChamberMaster//Event Calendar 2.0//EN
METHOD:PUBLISH
X-PUBLISHED-TTL:P3D
REFRESH-INTERVAL:P3D
CALSCALE:GREGORIAN
BEGIN:VEVENT
DTSTART:20130302T220000Z
DTEND:20130303T010000Z
X-MICROSOFT-CDO-ALLDAYEVENT:FALSE
SUMMARY:ITALIAN PROSECCO TASTING!
DESCRIPTION:ITALIAN PROSECCO: FRATTINA\n\n\n\nWINE OF THE WEEK:  THE PRISIONER BY ORIN SWIFT $31.99
X-ALT-DESC;FMTTYPE=text/html:ITALIAN PROSECCO: FRATTINA<br />\n<br />\nWINE OF THE WEEK:&nbsp\; THE PRISIONER BY ORIN SWIFT $31.99
LOCATION:STEFANO?S WINE & LIQUOR AT THE GALLERIA MALL
UID:e.330.3866
SEQUENCE:3
DTSTAMP:20260420T091301Z
URL:https://business.keybiscaynechamber.org/events/details/italian-prosecco-tasting-03-02-2013-3866
END:VEVENT

END:VCALENDAR
