BEGIN:VCALENDAR
VERSION:2.0
PRODID:-//ChamberMaster//Event Calendar 2.0//EN
METHOD:PUBLISH
X-PUBLISHED-TTL:P3D
REFRESH-INTERVAL:P3D
CALSCALE:GREGORIAN
BEGIN:VEVENT
DTSTART:20130223T220000Z
DTEND:20130224T010000Z
X-MICROSOFT-CDO-ALLDAYEVENT:FALSE
SUMMARY:ITALIAN BRUNELLO'S & BEER TASTING!
DESCRIPTION:DUVEL BEER TASTING\,  BELGIUM\n\nMANAPETRA BRUNELLO DE MONTALCINO\, ITALY
X-ALT-DESC;FMTTYPE=text/html:DUVEL BEER TASTING\,&nbsp\; BELGIUM<br />\nMANAPETRA BRUNELLO DE MONTALCINO\, ITALY
LOCATION:STEFANO'S WINE & LIQUOR AT THE GALLERIA MALL
UID:e.330.3863
SEQUENCE:3
DTSTAMP:20260420T104408Z
URL:https://business.keybiscaynechamber.org/events/details/italian-brunello-s-beer-tasting-02-23-2013-3863
END:VEVENT

END:VCALENDAR
