BEGIN:VCALENDAR
VERSION:2.0
PRODID:-//ChamberMaster//Event Calendar 2.0//EN
METHOD:PUBLISH
X-PUBLISHED-TTL:P3D
REFRESH-INTERVAL:P3D
CALSCALE:GREGORIAN
BEGIN:VEVENT
DTSTART;VALUE=DATE:20121207
DTEND;VALUE=DATE:20121208
TRANSP:TRANSPARENT
X-MICROSOFT-CDO-ALLDAYEVENT:TRUE
SUMMARY:iPad Mini Raffle by Act4Me
DESCRIPTION:Participate in a raffle to win the new Ipad Mini! Your entry will give a child with disabilities a chance to Achieve!\n\n	\n\n	All proceeds of this raffle to benefit the Act4Me Foundation\, a local charity\n\n	helping children with neurological disorders and disabilities access the therapy they need.\n\n	\n\n	"Your Choice to Give is Their Chance to Achieve"\n\n	\n\n	To purchase your ticket(s) prior to raffle\, please email contact@act4me.org or call Maida 786.390.1172
X-ALT-DESC;FMTTYPE=text/html:<div style="color: gray">\n	<br id="ecxFontBreak" />\n	<span style="color: #000000"><span style="font-size: 10pt"><span style="font-family: tahoma\, sans-serif"><span style="font-family: tahoma">Participate in a raffle to win the new Ipad Mini! Your entry will give a child with disabilities a chance to Achieve!<br />\n	<br />\n	All proceeds of this raffle to benefit the Act4Me Foundation\, a local charity<br />\n	helping children with neurological disorders and disabilities access the therapy they need.<br />\n	<br />\n	<strong><em><span style="font-family: tahoma\, sans-serif">&quot\;Your Choice to Give is Their Chance to Achieve&quot\;</span></em></strong></span><br />\n	<br />\n	To purchase&nbsp\;your ticket(s) prior to&nbsp\;raffle\, please&nbsp\;<span style="font-family: tahoma">email contact@act4me.org </span></span></span></span><span style="color: #000000"><span style="font-size: 10pt"><span style="font-family: tahoma\, sans-serif"><span style="font-family: tahoma"><span style="font-family: tahoma">or call Maida </span></span></span></span></span><span style="color: #000000"><span style="font-size: 10pt"><span style="font-family: tahoma\, sans-serif"><span style="font-family: tahoma"><span style="font-family: tahoma">786.390.1172</span></span></span></span></span><br />\n	<br />\n	<span style="color: #000000"><span style="font-size: 10pt"><span style="font-family: tahoma\, sans-serif"><span style="font-family: tahoma"><span _fck_bookmark="1" style="display: none">&nbsp\;</span>&nbsp\;</span>&nbsp\;</span></span></span></div>\n
LOCATION:
UID:e.330.3798
SEQUENCE:3
DTSTAMP:20260420T144833Z
URL:https://business.keybiscaynechamber.org/events/details/ipad-mini-raffle-by-act4me-12-07-2012-3798
END:VEVENT

END:VCALENDAR
