BEGIN:VCALENDAR
VERSION:2.0
PRODID:-//ChamberMaster//Event Calendar 2.0//EN
METHOD:PUBLISH
X-PUBLISHED-TTL:P3D
REFRESH-INTERVAL:P3D
CALSCALE:GREGORIAN
BEGIN:VEVENT
DTSTART:20120119T230000Z
DTEND:20120120T010000Z
X-MICROSOFT-CDO-ALLDAYEVENT:FALSE
SUMMARY:Installation & General Membership Meeting
DESCRIPTION:Join us for a night to honor the incoming and outgoing Board of Directors and Officers. The event will take place at the Links of Key Biscayne at Crandon Golf Course. It will be in conjunction with the Awards of Excellence and the winners will be announced at this event.\n\n\n\nA complimentary Rum Bar is sponsored by Ron Matusalem. There will also be a cash bar for those who don't drink rum\, and passed hors d'oeuvres will be provided.\n\n\n\nThe cost is $10 per person - you may register online.
X-ALT-DESC;FMTTYPE=text/html:Join us for a night to honor the incoming and outgoing Board of Directors and Officers. The event will take place at the Links of Key Biscayne at Crandon Golf Course. It will be in conjunction with the Awards of Excellence and the winners will be announced at this event.<br />\n<br />\nA complimentary Rum Bar is sponsored by Ron Matusalem. There will also be a cash bar for those who don&#39\;t drink rum\, and passed hors d&#39\;oeuvres will be provided.<br />\n<br />\nThe cost is $10 per person - you may register online.
LOCATION:
UID:e.330.3571
SEQUENCE:3
DTSTAMP:20260421T060953Z
URL:https://business.keybiscaynechamber.org/events/details/installation-general-membership-meeting-01-19-2012-3571
END:VEVENT

END:VCALENDAR
