BEGIN:VCALENDAR
VERSION:2.0
PRODID:-//ChamberMaster//Event Calendar 2.0//EN
METHOD:PUBLISH
X-PUBLISHED-TTL:P3D
REFRESH-INTERVAL:P3D
CALSCALE:GREGORIAN
BEGIN:VEVENT
DTSTART:20260115T150000Z
DTEND:20260115T170000Z
X-MICROSOFT-CDO-ALLDAYEVENT:FALSE
SUMMARY:Industry Day for Design/Build of a New Museum at Virginia Key Beach Park
DESCRIPTION:Register today to attend this Industry Day.\n\n\n\nIf your firm is interested in participating in the design and construction of a new Museum at the Historic Virginia Key Beach Park\, this Industry Day is for you!\n\n\n\nThe City of Miami's Department of Procurement\, in collaboration with the Virginia Key Beach Park Trust and the City of Miami District 5 Office\, will present the Project to interested firms.\n\n\n\nThe upcoming informational meeting at the Little Haiti Culture Center (LHCC) is an opportunity to discuss:\n\n\n\nProject Scope of Work\n\nMinimum Qualifications and Experience Requirements\n\nThe Evaluation Process
X-ALT-DESC;FMTTYPE=text/html:<br />\n<br />\nRegister today to attend this Industry Day.<br />\n<br />\nIf your firm is interested in participating in the design and construction of a new Museum at the Historic Virginia Key Beach Park\, this Industry Day is for you!<br />\n<br />\nThe City of Miami&rsquo\;s Department of Procurement\, in collaboration with the Virginia Key Beach Park Trust and the City of Miami District 5 Office\, will present the Project to interested firms.<br />\n<br />\nThe upcoming informational meeting at the Little Haiti Culture Center (LHCC) is an opportunity to discuss:<br />\n<br />\nProject Scope of Work<br />\nMinimum Qualifications and Experience Requirements<br />\nThe Evaluation Process<br />\n<br />\n&nbsp\;
LOCATION:LITTLE HAITI CULTURAL COMPLEX PROSCENIUM THEATRE
UID:e.330.23322
SEQUENCE:3
DTSTAMP:20260424T212349Z
URL:https://business.keybiscaynechamber.org/events/details/industry-day-for-design-build-of-a-new-museum-at-virginia-key-beach-park-23322
END:VEVENT

END:VCALENDAR
