BEGIN:VCALENDAR
VERSION:2.0
PRODID:-//ChamberMaster//Event Calendar 2.0//EN
METHOD:PUBLISH
X-PUBLISHED-TTL:P3D
REFRESH-INTERVAL:P3D
CALSCALE:GREGORIAN
BEGIN:VEVENT
DTSTART:20130516T220000Z
DTEND:20130516T230000Z
X-MICROSOFT-CDO-ALLDAYEVENT:FALSE
SUMMARY:Hurricanes
DESCRIPTION:A lecture with Dr. Sim Aberson\, NOAA\, on the general topic of Atlantic hurricanes by Dr. Aberson will be presented. The presentation will include the current information we have about these destructive events.\n			\n		\n	\n	\n		 \n	Click here to edit...
X-ALT-DESC;FMTTYPE=text/html:<div style="color: gray">\n	<table align="left" cellpadding="0" cellspacing="0" hspace="0" vspace="0">\n		<tbody>\n			<tr>\n				<td align="left" style="border-bottom: #000000\; border-left: #000000\; padding-bottom: 0in\; padding-left: 1.8pt\; padding-right: 1.8pt\; vertical-align: top\; border-top: #000000\; border-right: #000000\; padding-top: 0in">\n					<span style="color: #000000"><span style="font-size: 13.5pt"><span style="font-family: arial\, sans-serif"><span style="font-family: arial">A lecture with Dr. Sim Aberson\, NOAA\,&nbsp\;on the general topic of Atlantic hurricanes by Dr. Aberson will be presented. The&nbsp\;presentation will include the current information we have about these destructive events.</span></span></span></span></td>\n			</tr>\n		</tbody>\n	</table>\n	<div style="clear: both">\n		&nbsp\;</div>\n	Click here to edit...</div>\n
LOCATION:Key Biscayne Community Center Adult Lounge 2nd Floor
UID:e.330.3915
SEQUENCE:3
DTSTAMP:20260420T061304Z
URL:https://business.keybiscaynechamber.org/events/details/hurricanes-05-16-2013-3915
END:VEVENT

END:VCALENDAR
