BEGIN:VCALENDAR
VERSION:2.0
PRODID:-//ChamberMaster//Event Calendar 2.0//EN
METHOD:PUBLISH
X-PUBLISHED-TTL:P3D
REFRESH-INTERVAL:P3D
CALSCALE:GREGORIAN
BEGIN:VEVENT
DTSTART:20251010T190000Z
DTEND:20251010T220000Z
X-MICROSOFT-CDO-ALLDAYEVENT:FALSE
SUMMARY:HQ Dontics Grand Opening
DESCRIPTION:Join us for the Official Grand Opening of HQ Dontics Dental Centre at The Square.\n\n\n\nMeet the team and enjoy light bites!\n\n\n\nRibbon Cutting Ceremony at 3:30 PM.
X-ALT-DESC;FMTTYPE=text/html:<br />\n<br />\n<span style="font-size:18px\;">Join us for the Official Grand Opening of HQ Dontics Dental Centre at The Square.<br />\n<br />\nMeet the team and enjoy light bites!<br />\n<br />\nRibbon Cutting Ceremony at 3:30 PM.</span>
LOCATION:HQ Dontics Dental Centre
UID:e.330.23233
SEQUENCE:3
DTSTAMP:20260424T224744Z
URL:https://business.keybiscaynechamber.org/events/details/hq-dontics-grand-opening-23233
END:VEVENT

END:VCALENDAR
