BEGIN:VCALENDAR
VERSION:2.0
PRODID:-//ChamberMaster//Event Calendar 2.0//EN
METHOD:PUBLISH
X-PUBLISHED-TTL:P3D
REFRESH-INTERVAL:P3D
CALSCALE:GREGORIAN
BEGIN:VEVENT
DTSTART:20251031T220000Z
DTEND:20251101T010000Z
X-MICROSOFT-CDO-ALLDAYEVENT:FALSE
SUMMARY:HOWL-O-WEEN Costume Contest at The Cleat
DESCRIPTION:Join us at HOWL-O-WEEN at The Cleat   a dog costume contest by the water\, with paws\, claws\, and maybe a few "awws." Seal the deal with a spooky sunset and some pup-friendly treats. Ghosts\, goblins   and furballs!    \n\n\n\nThis Halloween\, The Cleat transforms into a doggy dungeon. Enter your pup in the costume contest and watch them steal hearts (and maybe a treat or two).\n\n\n\n  Awards for: \n\n	Cutest Monster \n	Spookiest Duo (you + your pup) \n	Audience Favorite\n\n Fifty percent of proceeds benefit Friends of Cape Florida\, with the remaining fifty percent awarded as cash prizes to the winning pooches.
X-ALT-DESC;FMTTYPE=text/html:<br />\n<br />\n<span style="font-size:16px\;"><span style="font-family:arial\;">Join us at HOWL-O-WEEN at The Cleat &mdash\; a dog costume contest by the water\, with paws\, claws\, and maybe a few &ldquo\;awws.&rdquo\; Seal the deal with a spooky sunset and some pup-friendly treats. Ghosts\, goblins &mdash\; and furballs!&nbsp\;</span></span>&#128062\; &#127875\;<br />\n<br />\n<span style="font-size:16px\;"><span style="font-family:arial\;">This Halloween\, The Cleat transforms into a doggy dungeon. Enter your pup in the costume contest and watch them steal hearts (and maybe a treat or two).</span></span><br />\n<br />\n&#127942\;&nbsp\;<span style="font-size:16px\;"><span style="font-family:arial\;">Awards for: </span></span>\n<ul>\n	<li><span style="font-size:16px\;"><span style="font-family:arial\;">Cutest Monster </span></span></li>\n	<li><span style="font-size:16px\;"><span style="font-family:arial\;">Spookiest Duo (you + your pup) </span></span></li>\n	<li><span style="font-size:16px\;"><span style="font-family:arial\;">Audience Favorite</span></span></li>\n</ul>\n<span style="font-size:16px\;"> <em>Fifty percent of proceeds benefit Friends of Cape Florida\, with the remaining fifty percent awarded as cash prizes to the winning pooches.</em></span>
LOCATION:The Cleat at No Name Harbor Bill Baggs Cape FL State Park
UID:e.330.23238
SEQUENCE:3
DTSTAMP:20260424T225016Z
URL:https://business.keybiscaynechamber.org/events/details/howl-o-ween-costume-contest-at-the-cleat-23238
END:VEVENT

END:VCALENDAR
