BEGIN:VCALENDAR
VERSION:2.0
PRODID:-//ChamberMaster//Event Calendar 2.0//EN
METHOD:PUBLISH
X-PUBLISHED-TTL:P3D
REFRESH-INTERVAL:P3D
CALSCALE:GREGORIAN
BEGIN:VEVENT
DTSTART;VALUE=DATE:20120204
DTEND;VALUE=DATE:20120205
TRANSP:TRANSPARENT
X-MICROSOFT-CDO-ALLDAYEVENT:TRUE
SUMMARY:Home Tour of Key Biscayne
DESCRIPTION:Have you ever driven past a house on the Key and wondered what it looks like from the inside?\n		\n			\n				Well now's your chance ...........\n			\n				The Key Biscayne Chamber of Commerce is giving you the opportunity to visit six of the most fabulous homes on the Island. The Tour will take place on Saturday February 5 from 10am to 3pm. Parking will be available at the Key Biacayne Presbyterian Church. Mini Vans will shuttle visitors from home to home. At the last home visited refreshments will be available - provided by our local restaurants.\n			\n				Tickets are $30 per ($40 at the door)\, and available from the Chamber office or any Chamber Board Member. Call (305) 361-5207 for tickets or further information or follow this link
X-ALT-DESC;FMTTYPE=text/html:<div>\n	<div class="_mcePaste" id="_mcePaste" style="display: inline">\n		<p _mce_style="margin: 0in 0in 10pt\;" style="margin: 0in 0in 10pt">\n			<span _mce_style="font-family: 'Arial'\, 'sans-serif'\; color: #000000\; font-size: 10pt\;" style="font-family: 'arial'\, 'sans-serif'\; color: #000000\; font-size: 10pt">Have you ever driven past a house on the Key and wondered what it looks like from the inside?</span></p>\n		<div>\n			<p _mce_style="margin: 0in 0in 10pt\;" style="margin: 0in 0in 10pt">\n				<span _mce_style="font-family: 'Arial'\, 'sans-serif'\; color: #000000\; font-size: 10pt\;" style="font-family: 'arial'\, 'sans-serif'\; color: #000000\; font-size: 10pt">Well now&#39\;s your chance ...........</span></p>\n			<p _mce_style="margin: 0in 0in 10pt\;" style="margin: 0in 0in 10pt">\n				<span _mce_style="font-family: 'Arial'\, 'sans-serif'\; color: #000000\; font-size: 10pt\;" style="font-family: 'arial'\, 'sans-serif'\; color: #000000\; font-size: 10pt">The Key Biscayne Chamber of Commerce is giving you the opportunity to visit six of the most fabulous homes on the Island. The Tour will take place on Saturday February 5 from 10am to 3pm. Parking will be available at the Key Biacayne Presbyterian Church. Mini Vans will shuttle visitors from home to home. At the last home visited refreshments will be available - provided by our local restaurants.</span></p>\n			<p _mce_style="margin: 0in 0in 10pt\;" style="margin: 0in 0in 10pt">\n				<span _mce_style="font-family: 'Arial'\, 'sans-serif'\; color: #000000\; font-size: 10pt\;" style="font-family: 'arial'\, 'sans-serif'\; color: #000000\; font-size: 10pt">Tickets are $30 per ($40 at the door)\, and available from the Chamber office or any Chamber Board Member. Call (305) 361-5207 for tickets or further information or <a href="http://events.constantcontact.com/register/event?llr=u6xrgedab&amp\;oeidk=a07e5hmjr0n0bafee6f">follow this link</a></span></p>\n		</div>\n	</div>\n</div>\n
LOCATION:Starting at Key Biscayne Presbyterian Church\, 160 Harbor Drive\, Key Biscayne\,and visiting homes on Key Biscayne.
UID:e.330.3086
SEQUENCE:3
DTSTAMP:20260421T043838Z
URL:https://business.keybiscaynechamber.org/events/details/home-tour-of-key-biscayne-02-04-2012-3086
END:VEVENT

END:VCALENDAR
