BEGIN:VCALENDAR
VERSION:2.0
PRODID:-//ChamberMaster//Event Calendar 2.0//EN
METHOD:PUBLISH
X-PUBLISHED-TTL:P3D
REFRESH-INTERVAL:P3D
CALSCALE:GREGORIAN
BEGIN:VEVENT
DTSTART:20111215T230000Z
DTEND:20111216T020000Z
X-MICROSOFT-CDO-ALLDAYEVENT:FALSE
SUMMARY:Holiday Party at I.M.7
DESCRIPTION:HOLIDAY COCKTAIL PARTY\n\n*DJ\, HORS D' OEUVRES\, BUBBLES AND RAFFLE*
X-ALT-DESC;FMTTYPE=text/html:HOLIDAY COCKTAIL PARTY<br />\n*DJ\, HORS D&#39\; OEUVRES\, BUBBLES AND RAFFLE*
LOCATION:Key Biscayne Galleria. 328 Crandon Boulevard. Suite 212
UID:e.330.3549
SEQUENCE:3
DTSTAMP:20260421T074418Z
URL:https://business.keybiscaynechamber.org/events/details/holiday-party-at-i-m-7-12-15-2011-3549
END:VEVENT

END:VCALENDAR
