BEGIN:VCALENDAR
VERSION:2.0
PRODID:-//ChamberMaster//Event Calendar 2.0//EN
METHOD:PUBLISH
X-PUBLISHED-TTL:P3D
REFRESH-INTERVAL:P3D
CALSCALE:GREGORIAN
BEGIN:VEVENT
DTSTART:20120630T020000Z
DTEND:20120707T160000Z
X-MICROSOFT-CDO-ALLDAYEVENT:FALSE
SUMMARY:Holiday Events
DESCRIPTION:Friday\, June 29th - Eloy Orta en vivo\n\nSaturday\, June 30th - Karaoke Plus\n\nTuesday\, July 3rd - Louie Archambeau live\n\nWednesday\, July 4th - open regular hours\n\nFriday\, July 6th - Switch live\n\nSaturday\, July 7th - Karaoke Plus
X-ALT-DESC;FMTTYPE=text/html:Friday\, June 29th - Eloy Orta en vivo<br />\nSaturday\, June 30th - Karaoke Plus<br />\nTuesday\, July 3rd - Louie Archambeau live<br />\nWednesday\, July 4th - open regular hours<br />\nFriday\, July 6th - Switch live<br />\nSaturday\, July 7th - Karaoke Plus
LOCATION:The Ibis Lounge 200 Crandon Blvd
UID:e.330.3741
SEQUENCE:3
DTSTAMP:20260420T210829Z
URL:https://business.keybiscaynechamber.org/events/details/holiday-events-06-29-2012-3741
END:VEVENT

END:VCALENDAR
