BEGIN:VCALENDAR
VERSION:2.0
PRODID:-//ChamberMaster//Event Calendar 2.0//EN
METHOD:PUBLISH
X-PUBLISHED-TTL:P3D
REFRESH-INTERVAL:P3D
CALSCALE:GREGORIAN
BEGIN:VEVENT
DTSTART:20250802T160000Z
DTEND:20250802T200000Z
X-MICROSOFT-CDO-ALLDAYEVENT:FALSE
SUMMARY:Historic Virginia Key Beach Park's 80th Anniversary
DESCRIPTION:SAVE THE DATE!\nGet ready\, Miami! The Historic Virginia Key Beach Park is turning 80\, and you're invited to an unforgettable celebration from August 1-3\, 2025. This isn't just any beach party it's a vibrant homage to eight decades of rich history\, cultural significance\, and community spirit. Located just a stone's throw from downtown Miami\, this iconic park has been a symbol of resilience and unity since its establishment in 1945.\n\n \n\nHere's what's going down:\n\n \n\n*Friday\, August 1   The weekend kicks off with the Museum Project Commencement Ceremony\, an exciting step toward preserving and sharing the park's legacy for future generations.\n\n \n\n*Saturday\, August 2   It's all about fun in the sun! Cool down with icy treats\, slide into excitement on the massive waterslide\, and get creative with FREE community activities like tours\, oral histories and mural painting plus more surprises to keep the vibes high all day long.\n\n \n\n*Sunday\, August 3   Wrap up the weekend with Poetry Potluck\, a grassroots community gathering where voices\, stories\, and flavors come together in a powerful celebration of culture and connection.\n\n \n\n Expect live music\, amazing food\, and an atmosphere that brings Miami's rich history and diverse community together. Whether you're a history buff\, a music lover\, or just looking for a good time under the sun\, this is one celebration you don't want to miss.\n\n \n\nMark your calendars and be part of history at the Historic Virginia Key Beach Park's 80th Anniversary!
X-ALT-DESC;FMTTYPE=text/html:<br />\n<span style="font-size:16px\;">SAVE THE DATE!</span>\n<p style="margin: 0px\; padding: 0px\; caret-color: rgb(46\, 47\, 47)\; color: rgb(46\, 47\, 47)\; font-family: Lato\, sans-serif\; font-size: 16px\; text-size-adjust: auto\;"><span style="font-size:16px\;"><span style="color: rgb(34\, 34\, 34)\;">Get ready\, Miami! The Historic Virginia Key Beach Park is turning 80\, and you&rsquo\;re invited to an unforgettable celebration from August 1-3\, 2025. This isn&rsquo\;t just any beach party&mdash\;it&rsquo\;s a vibrant homage to eight decades of rich history\, cultural significance\, and community spirit. Located just a stone&rsquo\;s throw from downtown Miami\, this iconic park has been a symbol of resilience and unity since its establishment in 1945.</span></span></p>\n\n<p style="margin: 0px\; padding: 0px\; caret-color: rgb(46\, 47\, 47)\; color: rgb(46\, 47\, 47)\; font-family: Lato\, sans-serif\; font-size: 16px\; text-size-adjust: auto\;">&nbsp\;</p>\n\n<p style="margin: 0px\; padding: 0px\; caret-color: rgb(46\, 47\, 47)\; color: rgb(46\, 47\, 47)\; font-family: Lato\, sans-serif\; font-size: 16px\; text-size-adjust: auto\;"><span style="font-size:16px\;"><span style="color: rgb(34\, 34\, 34)\; font-weight: bold\;">Here&rsquo\;s what&rsquo\;s going down:</span></span></p>\n\n<p style="margin: 0px\; padding: 0px\; caret-color: rgb(46\, 47\, 47)\; color: rgb(46\, 47\, 47)\; font-family: Lato\, sans-serif\; font-size: 16px\; text-size-adjust: auto\;">&nbsp\;</p>\n\n<p style="margin: 0px\; padding: 0px\; caret-color: rgb(46\, 47\, 47)\; color: rgb(46\, 47\, 47)\; font-family: Lato\, sans-serif\; font-size: 16px\; text-size-adjust: auto\;"><span style="font-size:16px\;"><span style="color: rgb(34\, 34\, 34)\; font-weight: bold\;">*Friday\, August 1&nbsp\;</span><span style="color: rgb(34\, 34\, 34)\;">&ndash\; The weekend kicks off with the&nbsp\;Museum Project Commencement Ceremony\, an exciting step toward preserving and sharing the park&rsquo\;s legacy for future generations.</span></span></p>\n\n<p style="margin: 0px\; padding: 0px\; caret-color: rgb(46\, 47\, 47)\; color: rgb(46\, 47\, 47)\; font-family: Lato\, sans-serif\; font-size: 16px\; text-size-adjust: auto\;">&nbsp\;</p>\n\n<p style="margin: 0px\; padding: 0px\; caret-color: rgb(46\, 47\, 47)\; color: rgb(46\, 47\, 47)\; font-family: Lato\, sans-serif\; font-size: 16px\; text-size-adjust: auto\;"><span style="font-size:16px\;"><span style="color: rgb(34\, 34\, 34)\; font-weight: bold\;">*Saturday\, August 2</span><span style="color: rgb(34\, 34\, 34)\;">&nbsp\;&ndash\; </span>It&rsquo\;s all about fun in the sun! Cool down with icy treats\, slide into excitement on the massive waterslide\, and get creative with FREE community activities like tours\, oral histories and mural painting&mdash\;plus more surprises to keep the vibes high all day long.</span></p>\n\n<p style="margin: 0px\; padding: 0px\; caret-color: rgb(46\, 47\, 47)\; color: rgb(46\, 47\, 47)\; font-family: Lato\, sans-serif\; font-size: 16px\; text-size-adjust: auto\;">&nbsp\;</p>\n\n<p style="margin: 0px\; padding: 0px\; caret-color: rgb(46\, 47\, 47)\; color: rgb(46\, 47\, 47)\; font-family: Lato\, sans-serif\; font-size: 16px\; text-size-adjust: auto\;"><span style="font-size:16px\;"><span style="color: rgb(34\, 34\, 34)\; font-weight: bold\;">*Sunday\, August 3</span><span style="color: rgb(34\, 34\, 34)\;">&nbsp\;&ndash\; Wrap up the weekend with&nbsp\;Poetry Potluck\, a grassroots community gathering where voices\, stories\, and flavors come together in a powerful celebration of culture and connection.</span></span></p>\n\n<p style="margin: 0px\; padding: 0px\; caret-color: rgb(46\, 47\, 47)\; color: rgb(46\, 47\, 47)\; font-family: Lato\, sans-serif\; font-size: 16px\; text-size-adjust: auto\;">&nbsp\;</p>\n\n<p style="margin: 0px\; padding: 0px\; caret-color: rgb(46\, 47\, 47)\; color: rgb(46\, 47\, 47)\; font-family: Lato\, sans-serif\; font-size: 16px\; text-size-adjust: auto\;"><span style="font-size:16px\;"><span style="color: rgb(34\, 34\, 34)\;">&#65279\;Expect live music\, amazing food\, and an atmosphere that brings Miami&rsquo\;s rich history and diverse community together. Whether you&rsquo\;re a history buff\, a music lover\, or just looking for a good time under the sun\, this is one celebration you don&rsquo\;t want to miss.</span></span></p>\n\n<p style="margin: 0px\; padding: 0px\; caret-color: rgb(46\, 47\, 47)\; color: rgb(46\, 47\, 47)\; font-family: Lato\, sans-serif\; font-size: 16px\; text-size-adjust: auto\;">&nbsp\;</p>\n\n<p style="margin: 0px\; padding: 0px\; caret-color: rgb(46\, 47\, 47)\; color: rgb(46\, 47\, 47)\; font-family: Lato\, sans-serif\; font-size: 16px\; text-size-adjust: auto\;"><span style="font-size:16px\;"><span style="color: rgb(34\, 34\, 34)\;">Mark your calendars and be part of history at the&nbsp\;Historic Virginia Key Beach Park&rsquo\;s 80th Anniversary!</span></span></p>\n
LOCATION:Historic Virginia Key Beach Park
UID:e.330.23129
SEQUENCE:3
DTSTAMP:20260425T001412Z
URL:https://business.keybiscaynechamber.org/events/details/historic-virginia-key-beach-park-s-80th-anniversary-23129
END:VEVENT

END:VCALENDAR
