BEGIN:VCALENDAR
VERSION:2.0
PRODID:-//ChamberMaster//Event Calendar 2.0//EN
METHOD:PUBLISH
X-PUBLISHED-TTL:P3D
REFRESH-INTERVAL:P3D
CALSCALE:GREGORIAN
BEGIN:VEVENT
DTSTART:20260119T150000Z
DTEND:20260119T180000Z
X-MICROSOFT-CDO-ALLDAYEVENT:FALSE
SUMMARY:Historic Virginia Key Beach Park MLK Day of Service
DESCRIPTION:Join us on Monday\, January 19\, 2026 in honor of Martin Luther King Jr. Day with a day of service at Historic Virginia Key Beach Park!
X-ALT-DESC;FMTTYPE=text/html:<p><br />\n<br />\n<span style="font-size:20px\;">Join us on Monday\, January 19\, 2026&nbsp\;in honor of Martin Luther King Jr. Day with a day of service at Historic Virginia Key Beach Park!</span></p>\n
LOCATION:Historic Virginia Key Beach Park
UID:e.330.23314
SEQUENCE:3
DTSTAMP:20260424T193804Z
URL:https://business.keybiscaynechamber.org/events/details/historic-virginia-key-beach-park-mlk-day-of-service-23314
END:VEVENT

END:VCALENDAR
