BEGIN:VCALENDAR
VERSION:2.0
PRODID:-//ChamberMaster//Event Calendar 2.0//EN
METHOD:PUBLISH
X-PUBLISHED-TTL:P3D
REFRESH-INTERVAL:P3D
CALSCALE:GREGORIAN
BEGIN:VEVENT
DTSTART:20130615T160000Z
DTEND:20130615T190000Z
X-MICROSOFT-CDO-ALLDAYEVENT:FALSE
SUMMARY:Health & Wellness Workshop for Teen Girls
DESCRIPTION:Designed for young ladies ages 14-18 years old\, this program will help you find your personal path to health and lead to a soulful connection that nourishes the fabulous you. Getting to a FABULOUSLY HEALTHY state is not as hard as you may think! Join two internationally acclaimed coaches as they take you on a journey into your body and soul to discover how intentional eating and living can ignite your inner sparkle!\n	\n		Learn how to develop and manage your personal transition to a healthier life while looking and feeling fabulous. During the workshop\, participants will explore and experiment with the results that come from the harmony of food-body behavior .\n	\n		Participants will leave with their very own Personal Meal Plan.  For more information call Zita Delevic at 305-393-9229.\n\n		\n\n		Space is limited so register in advance by calling 305-365-8900 or stop by the Community Center's front desk.
X-ALT-DESC;FMTTYPE=text/html:<div style="color: gray">\n	<p align="left">\n		<span style="color: #000000"><font face="Verdana"><font face="Verdana">Designed for young ladies ages 14-18 years old\, this program will help you find </font></font></span><span style="color: #000000"><font face="Verdana"><font face="Verdana">your personal path to health and lead to a soulful connection that nourishes the </font></font></span><span style="color: #000000"><font face="Verdana"><font face="Verdana">fabulous you. Getting to a FABULOUSLY HEALTHY state is not as hard as you </font></font></span><span style="color: #000000"><font face="Verdana"><font face="Verdana">may think! Join two internationally acclaimed coaches as they take you on a </font></font></span><span style="color: #000000"><font face="Verdana"><font face="Verdana">journey into your body and soul to discover how intentional eating and living can </font></font></span><span style="color: #000000"><font face="Verdana"><font face="Verdana">ignite your inner sparkle!</font></font></span></p>\n	<p align="left">\n		<span style="color: #000000"><font face="Verdana"><font face="Verdana">Learn how to develop and manage your personal transition to a healthier life </font></font></span><span style="color: #000000"><font face="Verdana"><font face="Verdana">while looking and feeling fabulous. During the workshop\, participants will explore </font></font></span><span style="color: #000000"><font face="Verdana"><font face="Verdana">and experiment with the results that come from the harmony of food-body behavior .</font></font></span></p>\n	<p>\n		<span style="color: #000000"><font face="Verdana"><font face="Verdana">Participants will leave with their very own Personal Meal Plan.&nbsp\; For more information call Zita Delevic at 305-393-9229.</font></font></span><br />\n		<br />\n		<span style="color: #3300ff"><font face="Verdana"><font face="Verdana">Space is limited so register in advance by calling 305-365-8900 or stop by the Community Center&#39\;s front desk.</font></font></span></p>\n</div>\n
LOCATION:Key Biscayne Community Center Arts & Crafts Room 10 Village Green Way Key Biscayne\, 33149
UID:e.330.3927
SEQUENCE:3
DTSTAMP:20260420T043409Z
URL:https://business.keybiscaynechamber.org/events/details/health-wellness-workshop-for-teen-girls-06-15-2013-3927
END:VEVENT

END:VCALENDAR
