BEGIN:VCALENDAR
VERSION:2.0
PRODID:-//ChamberMaster//Event Calendar 2.0//EN
METHOD:PUBLISH
X-PUBLISHED-TTL:P3D
REFRESH-INTERVAL:P3D
CALSCALE:GREGORIAN
BEGIN:VEVENT
DTSTART:20250821T160000Z
DTEND:20250821T173000Z
X-MICROSOFT-CDO-ALLDAYEVENT:FALSE
SUMMARY:HCA Florida Mercy Hospital Lunch & Learn at The Ocean Club
DESCRIPTION:Join us for lunch with the new Chief Executive Officer of HCA Florida Mercy Hospital\, Allyssa Tobitt\, along with members of the executive and emergency services team to learn more about the award-winning emergency care at Mercy Hospital in Miami!
X-ALT-DESC;FMTTYPE=text/html:<br />\n<br />\n<span style="font-size:18px\;">Join us for lunch with the new Chief Executive Officer of HCA Florida Mercy Hospital\, Allyssa Tobitt\, along with members of the executive and emergency services team to learn more about the award-winning emergency care at Mercy Hospital in Miami!</span>
LOCATION:The Ocean Club
UID:e.330.23131
SEQUENCE:3
DTSTAMP:20260425T001829Z
URL:https://business.keybiscaynechamber.org/events/details/hca-florida-mercy-hospital-lunch-learn-at-the-ocean-club-23131
END:VEVENT

END:VCALENDAR
