BEGIN:VCALENDAR
VERSION:2.0
PRODID:-//ChamberMaster//Event Calendar 2.0//EN
METHOD:PUBLISH
X-PUBLISHED-TTL:P3D
REFRESH-INTERVAL:P3D
CALSCALE:GREGORIAN
BEGIN:VEVENT
DTSTART:20251214T140000Z
DTEND:20251215T000000Z
X-MICROSOFT-CDO-ALLDAYEVENT:FALSE
SUMMARY:Hanukkah is lighting up the Center for Jewish Life at Beth David
DESCRIPTION:Get ready for a full day of light\, learning\, and laughter as we celebrate Hanukkah at the Center!\n\n\n\nJoin us on Sunday\, December 14 for a meaningful\, family-friendly lineup that brings our community together from morning to night.\n\n\n\n9:00 AM   RuckTorah with Rabbi Carmi\n\n\n\nStart your day with purpose. Enjoy a refreshing walk as Rabbi Carmi leads a thoughtful podcast on raising Jewish children\, followed by reflection and conversation along the path.\n\n\n\n2:30 PM   Rams vs. JCC Basketball Game\n\n\n\nBring the spirit and cheer on our Rams in a lively matchup filled with friendly competition and community pride.\n\n\n\n4:00 6:15 PM   Family Hanukkah Fun\n\n\n\nBring the whole family for hands-on activity stations each with a festive Hanukkah twist. Expect crafts\, games\, creativity\, and plenty of joyful connection.\n\n\n\n5:30 6:15 PM   The Hidden Meaning of Hanukkah with Rabbi Carmi\n\n\n\nTake a deeper look at the story and symbolism of the holiday as Rabbi Carmi shares thoughtful insights that shine new light on Hanukkah's enduring message.\n\n\n\n6:15 PM   Community Candle Lighting & Bonfire Finale\n\n\n\nWe'll end the day together with a glowing candle lighting and a cozy bonfire warming the night with unity\, reflection\, and shared celebration.
X-ALT-DESC;FMTTYPE=text/html:<br />\n<br />\nGet ready for a full day of light\, learning\, and laughter as we celebrate Hanukkah at the Center!<br />\n<br />\nJoin us on Sunday\, December 14 for a meaningful\, family-friendly lineup that brings our community together from morning to night.<br />\n<br />\n<strong>9:00 AM </strong>&ndash\; RuckTorah with Rabbi Carmi<br />\n<br />\nStart your day with purpose. Enjoy a refreshing walk as Rabbi Carmi leads a thoughtful podcast on raising Jewish children\, followed by reflection and conversation along the path.<br />\n<br />\n<strong>2:30 PM</strong> &ndash\; Rams vs. JCC Basketball Game<br />\n<br />\nBring the spirit and cheer on our Rams in a lively matchup filled with friendly competition and community pride.<br />\n<br />\n<strong>4:00&ndash\;6:15 PM </strong>&ndash\; Family Hanukkah Fun<br />\n<br />\nBring the whole family for hands-on activity stations&mdash\;each with a festive Hanukkah twist. Expect crafts\, games\, creativity\, and plenty of joyful connection.<br />\n<br />\n<strong>5:30&ndash\;6:15 PM</strong> &ndash\; The Hidden Meaning of Hanukkah with Rabbi Carmi<br />\n<br />\nTake a deeper look at the story and symbolism of the holiday as Rabbi Carmi shares thoughtful insights that shine new light on Hanukkah&rsquo\;s enduring message.<br />\n<br />\n<strong>6:15 PM</strong> &ndash\; Community Candle Lighting &amp\; Bonfire Finale<br />\n<br />\nWe&rsquo\;ll end the day together with a glowing candle lighting and a cozy bonfire&mdash\;warming the night with unity\, reflection\, and shared celebration.<br />\n<br />\n&nbsp\;
LOCATION:
UID:e.330.23276
SEQUENCE:3
DTSTAMP:20260424T180940Z
URL:https://business.keybiscaynechamber.org/events/details/hanukkah-is-lighting-up-the-center-for-jewish-life-at-beth-david-23276
END:VEVENT

END:VCALENDAR
