BEGIN:VCALENDAR
VERSION:2.0
PRODID:-//ChamberMaster//Event Calendar 2.0//EN
METHOD:PUBLISH
X-PUBLISHED-TTL:P3D
REFRESH-INTERVAL:P3D
CALSCALE:GREGORIAN
BEGIN:VEVENT
DTSTART:20111030T020000Z
DTEND:20111030T060000Z
X-MICROSOFT-CDO-ALLDAYEVENT:FALSE
SUMMARY:Halloween with Corner of 3 at The Ibis Lounge
DESCRIPTION:Halloween Party with Corner of 3 live and costume contests
X-ALT-DESC;FMTTYPE=text/html:Halloween Party with Corner of 3 live and costume contests<br />\n
LOCATION:The Ibis Lounge 200 Crandon Blvd #101 Key Biscayne\, Fl 33149
UID:e.330.3489
SEQUENCE:3
DTSTAMP:20260421T103328Z
URL:https://business.keybiscaynechamber.org/events/details/halloween-with-corner-of-3-at-the-ibis-lounge-10-29-2011-3489
END:VEVENT

END:VCALENDAR
