BEGIN:VCALENDAR
VERSION:2.0
PRODID:-//ChamberMaster//Event Calendar 2.0//EN
METHOD:PUBLISH
X-PUBLISHED-TTL:P3D
REFRESH-INTERVAL:P3D
CALSCALE:GREGORIAN
BEGIN:VEVENT
DTSTART:20121028T020000Z
DTEND:20121028T060000Z
X-MICROSOFT-CDO-ALLDAYEVENT:FALSE
SUMMARY:Halloween Party
DESCRIPTION:Halloween Party\n\nSaturday\, October 27th\n\n10pm-2am\n\ngoulish blackboard drink specials\n\nprizes for costumes\n\nkaraoke by Karaoke Plus
X-ALT-DESC;FMTTYPE=text/html:Halloween Party<br />\nSaturday\, October 27th<br />\n10pm-2am<br />\ngoulish blackboard drink specials<br />\nprizes for costumes<br />\nkaraoke by Karaoke Plus
LOCATION:The Ibis Lounge 200 Crandon Blvd #101 Key Biscayne\, Fl 3314
UID:e.330.3783
SEQUENCE:3
DTSTAMP:20260420T160029Z
URL:https://business.keybiscaynechamber.org/events/details/halloween-party-10-27-2012-3783
END:VEVENT

END:VCALENDAR
