BEGIN:VCALENDAR
VERSION:2.0
PRODID:-//ChamberMaster//Event Calendar 2.0//EN
METHOD:PUBLISH
X-PUBLISHED-TTL:P3D
REFRESH-INTERVAL:P3D
CALSCALE:GREGORIAN
BEGIN:VEVENT
DTSTART:20111029T190000Z
DTEND:20111029T230000Z
X-MICROSOFT-CDO-ALLDAYEVENT:FALSE
SUMMARY:Halloween Fest
DESCRIPTION:Bring the Family for Fun!\n\n	\n\n	Carnival Rides & Games\n\n	Bungee Jumper\n\n	Pony Rides\n\n	Face Painting\n\n	BBQ & Bake Sale\n\n	Karaoke\n\n	Bounce Houses\n\n	Video Game Booth\n\n	& much much more!\n\n	\n\n	Saturday\, October 29\n\n	3:00 -7:00 pm
X-ALT-DESC;FMTTYPE=text/html:<div>\n	<span style="color: #ff8c00"><strong><span style="font-size: 18px">Bring the Family for Fun!</span></strong><br />\n	<br />\n	Carnival Rides &amp\; Games<br />\n	Bungee Jumper<br />\n	Pony Rides<br />\n	Face Painting<br />\n	BBQ &amp\; Bake Sale<br />\n	Karaoke<br />\n	Bounce Houses<br />\n	Video Game Booth<br />\n	&amp\; much much more!</span><br />\n	<br />\n	<strong><span style="color: #ff8c00"><span style="font-size: 18px">Saturday\, October 29<br />\n	3:00 -7:00 pm</span></span></strong></div>\n
LOCATION:Key Biscayne Community Church Day School 355 Glenridge Road
UID:e.330.3500
SEQUENCE:3
DTSTAMP:20260421T102404Z
URL:https://business.keybiscaynechamber.org/events/details/halloween-fest-10-29-2011-3500
END:VEVENT

END:VCALENDAR
