BEGIN:VCALENDAR
VERSION:2.0
PRODID:-//ChamberMaster//Event Calendar 2.0//EN
METHOD:PUBLISH
X-PUBLISHED-TTL:P3D
REFRESH-INTERVAL:P3D
CALSCALE:GREGORIAN
BEGIN:VEVENT
DTSTART:20130802T000000Z
DTEND:20130802T043000Z
X-MICROSOFT-CDO-ALLDAYEVENT:FALSE
SUMMARY:Guinness International Champions Cup soccer at The Ibis Lounge
DESCRIPTION:$3 Guinness & Stella Artois bottles during the game
X-ALT-DESC;FMTTYPE=text/html:$3 Guinness &amp\; Stella Artois bottles during the game
LOCATION:The Ibis Lounge 200 Crandon Blvd Key Biscayne\, Fl
UID:e.330.3951
SEQUENCE:3
DTSTAMP:20260420T014532Z
URL:https://business.keybiscaynechamber.org/events/details/guinness-international-champions-cup-soccer-at-the-ibis-lounge-08-01-2013-3951
END:VEVENT

END:VCALENDAR
