BEGIN:VCALENDAR
VERSION:2.0
PRODID:-//ChamberMaster//Event Calendar 2.0//EN
METHOD:PUBLISH
X-PUBLISHED-TTL:P3D
REFRESH-INTERVAL:P3D
CALSCALE:GREGORIAN
BEGIN:VEVENT
DTSTART:20120303T140000Z
DTEND:20120303T190000Z
X-MICROSOFT-CDO-ALLDAYEVENT:FALSE
SUMMARY:Green Market at the Community Church
DESCRIPTION:Fresh Local Produce and Honey\, Prepared Foods\, Orchids\, French Bread and Pastries\, Tropical Fruit Smoothies\, Handmade Soap and Crafts
X-ALT-DESC;FMTTYPE=text/html:Fresh Local Produce and Honey\, Prepared Foods\, Orchids\, French Bread and Pastries\, Tropical Fruit Smoothies\, Handmade Soap and Crafts
LOCATION:355 Glenridge Road\, Key Biscayne
UID:e.330.3561
SEQUENCE:3
DTSTAMP:20260421T032634Z
URL:https://business.keybiscaynechamber.org/events/details/green-market-at-the-community-church-03-03-2012-3561
END:VEVENT

END:VCALENDAR
