BEGIN:VCALENDAR
VERSION:2.0
PRODID:-//ChamberMaster//Event Calendar 2.0//EN
METHOD:PUBLISH
X-PUBLISHED-TTL:P3D
REFRESH-INTERVAL:P3D
CALSCALE:GREGORIAN
BEGIN:VEVENT
DTSTART:20110518T230000Z
DTEND:20110519T010000Z
X-MICROSOFT-CDO-ALLDAYEVENT:FALSE
SUMMARY:Grand Opening of Puntino Pizzeria
DESCRIPTION:You're invited to the Grand Opening of Puntino Pizzeria.\n\n\n\nFree Pizza testing and Prosecco wine!
X-ALT-DESC;FMTTYPE=text/html:<span style="font-family: arial"><span style="font-size: 12px">You&#39\;re invited to the Grand Opening of Puntino Pizzeria.<br />\n<br />\nFree Pizza testing and Prosecco wine!</span></span>
LOCATION:Puntino Pizzeria\, 260 Crandon Boulevard\, Suite 35
UID:e.330.3384
SEQUENCE:3
DTSTAMP:20260421T173851Z
URL:https://business.keybiscaynechamber.org/events/details/grand-opening-of-puntino-pizzeria-05-18-2011-3384
END:VEVENT

END:VCALENDAR
