BEGIN:VCALENDAR
VERSION:2.0
PRODID:-//ChamberMaster//Event Calendar 2.0//EN
METHOD:PUBLISH
X-PUBLISHED-TTL:P3D
REFRESH-INTERVAL:P3D
CALSCALE:GREGORIAN
BEGIN:VEVENT
DTSTART:20140516T160000Z
DTEND:20140516T223000Z
X-MICROSOFT-CDO-ALLDAYEVENT:FALSE
SUMMARY:Golf Second Annual Tournament 2014 MAY 16th - Act4Me Foundation
DESCRIPTION:Act4me\, A Chance for Therapy\, is a 501(c)(3)\, non-profit organization established in Miami-Dade County\, FL. We are committed to improve the lives of children with neurological disorders and developmental delays\, by supporting familes with adequate resources to access therapy\, enabling them to reach their highest potential.\n\nSecond Annual Golf Tournamet\n\nMAY 16th 1:00pm ShotGun\, 6:30pm Dinner & Awards Ceremony
X-ALT-DESC;FMTTYPE=text/html:Act4me\, A Chance for Therapy\, is a 501(c)(3)\, non-profit organization established in Miami-Dade County\, FL. We are committed to improve the lives of children with neurological disorders and developmental delays\, by supporting familes with adequate resources to access therapy\, enabling them to reach their highest potential.<br />\nSecond Annual Golf Tournamet<br />\nMAY 16th 1:00pm ShotGun\, 6:30pm Dinner &amp\; Awards Ceremony
LOCATION:Melreese Golf Club 1802 NW 37th Avenue\, Miami\, 33125
UID:e.330.4081
SEQUENCE:3
DTSTAMP:20260419T121351Z
URL:https://business.keybiscaynechamber.org/events/details/golf-second-annual-tournament-2014-may-16th-act4me-foundation-05-16-2014-4081
END:VEVENT

END:VCALENDAR
