BEGIN:VCALENDAR
VERSION:2.0
PRODID:-//ChamberMaster//Event Calendar 2.0//EN
METHOD:PUBLISH
X-PUBLISHED-TTL:P3D
REFRESH-INTERVAL:P3D
CALSCALE:GREGORIAN
BEGIN:VEVENT
DTSTART:20130430T153000Z
DTEND:20130430T173000Z
X-MICROSOFT-CDO-ALLDAYEVENT:FALSE
SUMMARY:Giving Tree/Good Neighbor Awards 2013
DESCRIPTION:Every year the Key Biscayne Chamber of Commerce honors students and teachers in our community that go the extra mile and help others. We award them with our Good Neighbor Award (students) or  with a Giving Tree Award (teachers).  We also make a Principal of The Year Award. To nominate teachers or students\, call us at (305) 361-5207. \n\n	\n\n	For sponsorship opportunities call the Chamber Office at the number above.
X-ALT-DESC;FMTTYPE=text/html:<div>\n	<span style="font-size: 12px"><span style="font-family: arial">Every year&nbsp\;the Key Biscayne Chamber of Commerce&nbsp\;honors students and teachers in our community that go the extra mile and help others. We award them with our Good Neighbor Award (students) or&nbsp\; with a Giving Tree Award (teachers).&nbsp\; We also make a Principal of The Year Award. To nominate teachers or students\, call us at (305) 361-5207.&nbsp\;<br />\n	<br />\n	For sponsorship opportunities call the Chamber Office at the number above.</span></span><br />\n	<br />\n	&nbsp\;</div>\n
LOCATION:Fairways on the Key Crandon Golf Course
UID:e.330.3884
SEQUENCE:3
DTSTAMP:20260420T075045Z
URL:https://business.keybiscaynechamber.org/events/details/giving-tree-good-neighbor-awards-2013-04-30-2013-3884
END:VEVENT

END:VCALENDAR
