BEGIN:VCALENDAR
VERSION:2.0
PRODID:-//ChamberMaster//Event Calendar 2.0//EN
METHOD:PUBLISH
X-PUBLISHED-TTL:P3D
REFRESH-INTERVAL:P3D
CALSCALE:GREGORIAN
BEGIN:VEVENT
DTSTART:20110113T223000Z
DTEND:20110114T003000Z
X-MICROSOFT-CDO-ALLDAYEVENT:FALSE
SUMMARY:General Membership Meeting & Board Installation
DESCRIPTION:Getting to Know You!\n\n	General Membership Meeting & Board Installation\n\n	Master of Ceremonies Sensei Robert Duzoglou\n\n	Board Installation by Honorable Mayor Franklin Caplan\n\n	Thursday January 13\, 2011 5:30pm to 7:30pm\n\n	Let's get to know each other and give business to your fellow Chamber members.\n\n	Come to meet the Board\, join a Committee\, get involved and grow your business!\n\n	The venue is The Grand Bay Club business dress is appropriate.\n\n	Chamber members free\, non-members $10\, there will be a credit card bar. \n\n	Music provided by CenterTone\n\n	Please RSVP to 305.361.5207 or info@keybiscaynechamber.org
X-ALT-DESC;FMTTYPE=text/html:<p style="text-align: center">\n	&nbsp\;<span style="font-size: 20px"><span lang="en-US" style="font-family: 'comic sans ms'\; font-weight: bold\; mso-default-font-family: 'comic sans ms'\; mso-ascii-font-family: 'comic sans ms'\; mso-latin-font-family: 'comic sans ms'\; mso-greek-font-family: 'comic sans ms'\; mso-cyrillic-font-family: 'comic sans ms'\; mso-latinext-font-family: 'comic sans ms'\; language: en-us\; mso-ansi-language: en-us">Getting to Know You!</span></span></p>\n<p class="MsoNormal" style="text-align: center\; mso-pagination: none">\n	<span style="font-size: 20px"><span lang="en-US" style="font-family: 'comic sans ms'\; font-weight: bold\; mso-default-font-family: 'comic sans ms'\; mso-ascii-font-family: 'comic sans ms'\; mso-latin-font-family: 'comic sans ms'\; mso-greek-font-family: 'comic sans ms'\; mso-cyrillic-font-family: 'comic sans ms'\; mso-latinext-font-family: 'comic sans ms'\; language: en-us\; mso-ansi-language: en-us">General Membership Meeting &amp\; Board Installation</span></span></p>\n<p class="MsoNormal" style="text-align: center\; mso-pagination: none">\n	<span style="font-size: 12px"><span style="font-family: arial"><span lang="en-US" style="mso-default-font-family: 'arial narrow'\; mso-ascii-font-family: 'arial narrow'\; mso-latin-font-family: 'arial narrow'\; mso-greek-font-family: 'arial narrow'\; mso-cyrillic-font-family: 'arial narrow'\; mso-latinext-font-family: 'arial narrow'\; language: en-us\; mso-ansi-language: en-us">Master of Ceremonies Sensei Robert Duzoglou</span></span></span></p>\n<p class="MsoNormal" style="text-align: center\; mso-pagination: none">\n	<span style="font-size: 12px"><span style="font-family: arial"><span lang="en-US" style="mso-default-font-family: 'arial narrow'\; mso-ascii-font-family: 'arial narrow'\; mso-latin-font-family: 'arial narrow'\; mso-greek-font-family: 'arial narrow'\; mso-cyrillic-font-family: 'arial narrow'\; mso-latinext-font-family: 'arial narrow'\; language: en-us\; mso-ansi-language: en-us">Board Installation by Honorable Mayor Franklin Caplan</span></span></span></p>\n<p class="MsoNormal" style="text-align: center\; mso-pagination: none">\n	<span style="font-size: 12px"><span style="font-family: arial"><span lang="en-US" style="mso-default-font-family: 'arial narrow'\; mso-ascii-font-family: 'arial narrow'\; mso-latin-font-family: 'arial narrow'\; mso-greek-font-family: 'arial narrow'\; mso-cyrillic-font-family: 'arial narrow'\; mso-latinext-font-family: 'arial narrow'\; language: en-us\; mso-ansi-language: en-us">Thursday January 13\, 2011 5:30pm to 7:30pm</span></span></span></p>\n<p class="MsoNormal" style="text-align: center\; mso-pagination: none">\n	<span style="font-size: 12px"><span style="font-family: arial"><span lang="en-US" style="mso-default-font-family: 'arial narrow'\; mso-ascii-font-family: 'arial narrow'\; mso-latin-font-family: 'arial narrow'\; mso-greek-font-family: 'arial narrow'\; mso-cyrillic-font-family: 'arial narrow'\; mso-latinext-font-family: 'arial narrow'\; language: en-us\; mso-ansi-language: en-us">Let&rsquo\;s get to know each other and give business to your fellow Chamber members.</span></span></span></p>\n<p class="MsoNormal" style="text-align: center\; mso-pagination: none">\n	<span style="font-size: 12px"><span style="font-family: arial"><span lang="en-US" style="mso-default-font-family: 'arial narrow'\; mso-ascii-font-family: 'arial narrow'\; mso-latin-font-family: 'arial narrow'\; mso-greek-font-family: 'arial narrow'\; mso-cyrillic-font-family: 'arial narrow'\; mso-latinext-font-family: 'arial narrow'\; language: en-us\; mso-ansi-language: en-us">Come to meet the Board\, join a Committee\, get involved and grow your business!</span></span></span></p>\n<p class="MsoNormal" style="text-align: center\; mso-pagination: none">\n	<span style="font-size: 12px"><span style="font-family: arial"><span lang="en-US" style="mso-default-font-family: 'arial narrow'\; mso-ascii-font-family: 'arial narrow'\; mso-latin-font-family: 'arial narrow'\; mso-greek-font-family: 'arial narrow'\; mso-cyrillic-font-family: 'arial narrow'\; mso-latinext-font-family: 'arial narrow'\; language: en-us\; mso-ansi-language: en-us">The venue is The Grand Bay Club&mdash\;business dress is appropriate</span><span lang="en-US" style="mso-default-font-family: 'comic sans ms'\; mso-ascii-font-family: 'comic sans ms'\; mso-latin-font-family: 'comic sans ms'\; mso-greek-font-family: 'comic sans ms'\; mso-cyrillic-font-family: 'comic sans ms'\; mso-latinext-font-family: 'comic sans ms'\; language: en-us\; mso-ansi-language: en-us">.</span></span></span></p>\n<p class="MsoNormal" style="text-align: center\; mso-pagination: none">\n	<span style="font-size: 12px"><span style="font-family: arial"><span lang="en-US" style="mso-default-font-family: 'arial narrow'\; mso-ascii-font-family: 'arial narrow'\; mso-latin-font-family: 'arial narrow'\; mso-greek-font-family: 'arial narrow'\; mso-cyrillic-font-family: 'arial narrow'\; mso-latinext-font-family: 'arial narrow'\; language: en-us\; mso-ansi-language: en-us">Chamber members free\, non-members $10\, there will be a credit card bar. </span></span></span></p>\n<p class="MsoNormal" style="text-align: center\; mso-pagination: none">\n	<span style="font-size: 12px"><span style="font-family: arial"><span lang="en-US" style="mso-default-font-family: 'arial narrow'\; mso-ascii-font-family: 'arial narrow'\; mso-latin-font-family: 'arial narrow'\; mso-greek-font-family: 'arial narrow'\; mso-cyrillic-font-family: 'arial narrow'\; mso-latinext-font-family: 'arial narrow'\; language: en-us\; mso-ansi-language: en-us">Music provided by CenterTone</span></span></span></p>\n<p class="MsoBodyText3" style="text-align: center\; mso-pagination: none">\n	<span style="font-size: 12px"><span style="font-family: arial"><span lang="en-US" style="line-height: 125%\; mso-default-font-family: 'arial narrow'\; mso-ascii-font-family: 'arial narrow'\; mso-latin-font-family: 'arial narrow'\; mso-greek-font-family: 'arial narrow'\; mso-cyrillic-font-family: 'arial narrow'\; mso-latinext-font-family: 'arial narrow'\; language: en-us\; mso-ansi-language: en-us\; mso-bidi-language: ar-sa">Please RSVP to 305.361.5207 or <a href="mailto:info@keybiscaynechamber.org">info@keybiscaynechamber.org</a> </span></span></span></p>\n<p class="MsoNormal" style="text-align: center\; mso-pagination: none">\n	<span style="font-size: 12px"><span style="font-family: arial"><span lang="en-US" style="language: en-us">&nbsp\;</span></span></span></p>\n
LOCATION:The Grand Bay Club\, 425 Grand Bay Drive North\, Key Biscayne\, FL 33149
UID:e.330.2882
SEQUENCE:3
DTSTAMP:20260421T230031Z
URL:https://business.keybiscaynechamber.org/events/details/general-membership-meeting-board-installation-01-13-2011-2882
END:VEVENT

END:VCALENDAR
