BEGIN:VCALENDAR
VERSION:2.0
PRODID:-//ChamberMaster//Event Calendar 2.0//EN
METHOD:PUBLISH
X-PUBLISHED-TTL:P3D
REFRESH-INTERVAL:P3D
CALSCALE:GREGORIAN
BEGIN:VEVENT
DTSTART:20121222T220000Z
DTEND:20121223T010000Z
X-MICROSOFT-CDO-ALLDAYEVENT:FALSE
SUMMARY:FRENCH WINES & CHAMPAGNE TASTING!
DESCRIPTION:Champagne Tasting: Ruinart Blancs de Blancs & Rose\n\n\n\nFrench Wine Tasting:\n\n\n\nChateauneuf du Pape- Rhone Valley Wines
X-ALT-DESC;FMTTYPE=text/html:<br />\n<span style="font-size: 16px">Champagne Tasting: Ruinart Blancs de Blancs &amp\; Rose<br />\n<br />\nFrench Wine Tasting:<br />\n<br />\nChateauneuf du Pape- Rhone Valley Wines</span><br />\n<br />\n
LOCATION:STEFANO?S WINE & LIQUOR AT THE GALLERIA MALL
UID:e.330.3830
SEQUENCE:3
DTSTAMP:20260420T145419Z
URL:https://business.keybiscaynechamber.org/events/details/french-wines-champagne-tasting-12-22-2012-3830
END:VEVENT

END:VCALENDAR
