BEGIN:VCALENDAR
VERSION:2.0
PRODID:-//ChamberMaster//Event Calendar 2.0//EN
METHOD:PUBLISH
X-PUBLISHED-TTL:P3D
REFRESH-INTERVAL:P3D
CALSCALE:GREGORIAN
BEGIN:VEVENT
DTSTART:20121229T220000Z
DTEND:20121230T010000Z
X-MICROSOFT-CDO-ALLDAYEVENT:FALSE
SUMMARY:FRENCH WINE TASTING
DESCRIPTION:Chateauneuf Du Pape\, Rhone Valley\n\nBordeaux Wines
X-ALT-DESC;FMTTYPE=text/html:<span style="font-size: 16px">Chateauneuf Du Pape\, Rhone Valley<br />\nBordeaux Wines</span><br />\n
LOCATION:STEFANO'S WINE & LIQUOR AT THE GALLERIA MALL
UID:e.330.3833
SEQUENCE:3
DTSTAMP:20260420T132407Z
URL:https://business.keybiscaynechamber.org/events/details/french-wine-tasting-12-29-2012-3833
END:VEVENT

END:VCALENDAR
