BEGIN:VCALENDAR
VERSION:2.0
PRODID:-//ChamberMaster//Event Calendar 2.0//EN
METHOD:PUBLISH
X-PUBLISHED-TTL:P3D
REFRESH-INTERVAL:P3D
CALSCALE:GREGORIAN
BEGIN:VEVENT
DTSTART:20130202T220000Z
DTEND:20130203T010000Z
X-MICROSOFT-CDO-ALLDAYEVENT:FALSE
SUMMARY:FRENCH WINE TASTING
DESCRIPTION:Les Oliveres\, Rose' fromProvence\n\nChateau Phelan Segur\, Bordeaux\n\n\n\nSPIRIT OF THE WEEK: RON ZACAPA $33.99 (.750)\n\n                                       RON ZACAPA $44.99 (LTR)
X-ALT-DESC;FMTTYPE=text/html:<span style="font-size: 14px">Les Oliveres\, Rose&#39\; fromProvence<br />\nChateau Phelan Segur\, Bordeaux<br />\n<br />\nSPIRIT OF THE WEEK: RON ZACAPA $33.99 (.750)<br />\n&nbsp\;&nbsp\;&nbsp\;&nbsp\;&nbsp\;&nbsp\;&nbsp\;&nbsp\;&nbsp\;&nbsp\;&nbsp\;&nbsp\;&nbsp\;&nbsp\;&nbsp\;&nbsp\;&nbsp\;&nbsp\;&nbsp\;&nbsp\;&nbsp\;&nbsp\;&nbsp\;&nbsp\;&nbsp\;&nbsp\;&nbsp\;&nbsp\;&nbsp\;&nbsp\;&nbsp\;&nbsp\;&nbsp\;&nbsp\;&nbsp\;&nbsp\;&nbsp\;&nbsp\; RON ZACAPA $44.99 (LTR)</span><br />\n
LOCATION:STEFANO?S WINE & LIQUOR AT THE GALLERIA MALL
UID:e.330.3842
SEQUENCE:3
DTSTAMP:20260420T104101Z
URL:https://business.keybiscaynechamber.org/events/details/french-wine-tasting-02-02-2013-3842
END:VEVENT

END:VCALENDAR
