BEGIN:VCALENDAR
VERSION:2.0
PRODID:-//ChamberMaster//Event Calendar 2.0//EN
METHOD:PUBLISH
X-PUBLISHED-TTL:P3D
REFRESH-INTERVAL:P3D
CALSCALE:GREGORIAN
BEGIN:VEVENT
DTSTART:20130301T220000Z
DTEND:20130302T010000Z
X-MICROSOFT-CDO-ALLDAYEVENT:FALSE
SUMMARY:FRENCH WINE & COGNAC TASTING
DESCRIPTION:RHONE VALLEY WINE:  LAURENT B\n\n	\n\n	COGNAC:  D'USSE BY BACARDI\n\n	\n\n	WINE OF THE WEEK: THE PRISIONER BY ORIN SWIFT $31.99
X-ALT-DESC;FMTTYPE=text/html:<p>\n	RHONE VALLEY WINE:&nbsp\; LAURENT B<br />\n	<br />\n	COGNAC:&nbsp\; D&#39\;USSE BY BACARDI<br />\n	<br />\n	WINE OF THE WEEK: THE PRISIONER BY ORIN SWIFT $31.99</p>\n
LOCATION:STEFANO?S WINE & LIQUOR AT THE GALLERIA MALL
UID:e.330.3865
SEQUENCE:3
DTSTAMP:20260420T091145Z
URL:https://business.keybiscaynechamber.org/events/details/french-wine-cognac-tasting-03-01-2013-3865
END:VEVENT

END:VCALENDAR
