BEGIN:VCALENDAR
VERSION:2.0
PRODID:-//ChamberMaster//Event Calendar 2.0//EN
METHOD:PUBLISH
X-PUBLISHED-TTL:P3D
REFRESH-INTERVAL:P3D
CALSCALE:GREGORIAN
BEGIN:VEVENT
DTSTART:20121124T220000Z
DTEND:20121125T010000Z
X-MICROSOFT-CDO-ALLDAYEVENT:FALSE
SUMMARY:FRENCH WHITE WINE TASTING AT STEFANOS WINE & LIQUOR
DESCRIPTION:French Wine White Wine Tasting:\n\nPuligny Montrachet\,
X-ALT-DESC;FMTTYPE=text/html:<span style="font-size: 16px">French Wine White Wine Tasting:<br />\nPuligny Montrachet\,</span><br />\n<br />\n
LOCATION:STEFANOS WINE & LIQUOR
UID:e.330.3807
SEQUENCE:3
DTSTAMP:20260420T162222Z
URL:https://business.keybiscaynechamber.org/events/details/french-white-wine-tasting-at-stefanos-wine-liquor-11-24-2012-3807
END:VEVENT

END:VCALENDAR
