BEGIN:VCALENDAR
VERSION:2.0
PRODID:-//ChamberMaster//Event Calendar 2.0//EN
METHOD:PUBLISH
X-PUBLISHED-TTL:P3D
REFRESH-INTERVAL:P3D
CALSCALE:GREGORIAN
BEGIN:VEVENT
DTSTART:20130323T210000Z
DTEND:20130324T000000Z
X-MICROSOFT-CDO-ALLDAYEVENT:FALSE
SUMMARY:FRENCH ROSE TASTING & RUMS
DESCRIPTION:CLOS CLEMENTINE ROSE'\,  PROVENCE\n\n\n\nZAFRA RUM. PANAMA
X-ALT-DESC;FMTTYPE=text/html:<strong>CLOS CLEMENTINE ROSE&#39\;\,&nbsp\; PROVENCE<br />\n<br />\nZAFRA RUM. PANAMA</strong>
LOCATION:STEFANO?S WINE & LIQUOR AT THE GALLERIA MALL
UID:e.330.3878
SEQUENCE:3
DTSTAMP:20260420T102313Z
URL:https://business.keybiscaynechamber.org/events/details/french-rose-tasting-rums-03-23-2013-3878
END:VEVENT

END:VCALENDAR
