BEGIN:VCALENDAR
VERSION:2.0
PRODID:-//ChamberMaster//Event Calendar 2.0//EN
METHOD:PUBLISH
X-PUBLISHED-TTL:P3D
REFRESH-INTERVAL:P3D
CALSCALE:GREGORIAN
BEGIN:VEVENT
DTSTART:20130125T220000Z
DTEND:20130126T010000Z
X-MICROSOFT-CDO-ALLDAYEVENT:FALSE
SUMMARY:FRENCH BURGUNDY & ROSE TASTING
DESCRIPTION:JEAN BOUCHARD\, CHABLIS\n\nCHATEAU MINUTY\, ROSE\, PROVENCE\n\n\n\nCOGNAC & RUM TASTING!\n\n\n\n1738 Cognac\n\nMount Gay Rum\, Jamaica
X-ALT-DESC;FMTTYPE=text/html:JEAN BOUCHARD\, CHABLIS<br />\nCHATEAU MINUTY\, ROSE\, PROVENCE<br />\n<br />\nCOGNAC &amp\; RUM TASTING!<br />\n<br />\n1738 Cognac<br />\nMount Gay Rum\, Jamaica<br />\n<br />\n
LOCATION:STEFANO?S WINE & LIQUOR AT THE GALLERIA MALL
UID:e.330.3839
SEQUENCE:3
DTSTAMP:20260420T131340Z
URL:https://business.keybiscaynechamber.org/events/details/french-burgundy-rose-tasting-01-25-2013-3839
END:VEVENT

END:VCALENDAR
